BEGIN:VCALENDAR
PRODID:NingEventWidget-v1
VERSION:2.0
METHOD:PUBLISH
BEGIN:VEVENT
UID:4320450:Event:34511
DTSTAMP:20260425T215827Z
SUMMARY:Barclay Prime's Men's Happy Hour
DESCRIPTION:Barclay Prime invites you to join them for a guys’ night
  out on Wednesday, September 18 through Friday, September 20. Philadel
 phia’s boutique luxury steakhouse is teaming up with three of the ci
 ty’s trendiest menswear designers and boutiques- Commonwealth Proper
 , Joan Shepp and Metro Men’s Clothing- to showcase their favorite fa
 shion picks for fall. Each evening from 5 to 7 p.m., enjoy discounted 
 specialty drinks, the latest fall trends and a complimentary shoe shin
 e.\n\nFor more information visit http://phillytodo.com/events/barclay-
 prime-s-men-s-happy-hour
DTSTART:20130918T210000Z
DTEND:20130920T230000Z
CATEGORIES:happy, hour
LOCATION:Barclay
WEBSITE:
URL:
CONTACT:
ORGANIZER;CN=CashmanAssoc:http://phillytodo.com/profile/CashmanAssoc
ATTACH;FMTTYPE="image/jpeg":
ATTENDEE;ROLE=REQ-PARTICIPANT;PARTSTAT=ACCEPTED;RSVP=TRUE;CN=CashmanAs
 soc:http://phillytodo.com/profile/CashmanAssoc
END:VEVENT
END:VCALENDAR
