BEGIN:VCALENDAR
PRODID:NingEventWidget-v1
VERSION:2.0
METHOD:PUBLISH
BEGIN:VEVENT
UID:4320450:Event:2867
DTSTAMP:20260425T160207Z
SUMMARY:Barber | Puccini | Tchaikovsky
DESCRIPTION:Conducted by Music Director Dirk Brossé, Barber | Puccini
  | Tchaikovsky begins with American composer Samuel Barber's overwhelm
 ing and passionate \"Adagio for Strings,\" followed by the invigoratin
 g and expressively pastoral \"Concerto in A Minor for Oboe & Strings\"
  by Ralph Vaughan Williams, featuring Chamber Orchestra Principal Oboi
 st, Geoffrey Deemer. The concert continues with one of the few non-ope
 ratic works by Giacomo Puccini, \"Crisantemi,\" an elegy composed for 
 the Italian royal family's Duke Amadeo of Savoy, and concludes with Py
 otr Tchaikovsky's beautiful and romantic \"Variations on a Rococo Them
 e,” featuring The Philadelphia Orchestra’s Principal Cellist Hai-Y
 e Ni.\n\nAdditional Performances of Barber | Puccini | Tchaikovsky:\nM
 onday 7:30 PM, Kimmel Center's Perelman Theater\nTuesday 7:30 PM, Temp
 le Performing Arts Center (formerly The Baptist Temple at Temple Unive
 rsity, see event website for details or call 215.204.9860)\n\nEvent We
 bsite\n\nFor more information visit http://phillytodo.com/events/barbe
 r-puccini-tchaikovsky
DTSTART:20101114T193000Z
DTEND:20101114T213000Z
CATEGORIES:concert
LOCATION:Kimmel Center for the Performing Arts
WEBSITE:http://www.chamberorchestra.org/concerts/?id=1
URL:http://www.chamberorchestra.org/concerts/?id=1
CONTACT:
ORGANIZER:The Chamber Orchestra of Philadelphia
ATTACH;FMTTYPE="image/jpeg":http://storage.ning.com/topology/rest/1.0/
 file/get/3054950812?profile=original
ATTENDEE;ROLE=REQ-PARTICIPANT;PARTSTAT=ACCEPTED;RSVP=TRUE;CN="Chamber 
 Orchestra":http://phillytodo.com/profile/DaraNBoyd
END:VEVENT
END:VCALENDAR
