BEGIN:VCALENDAR
PRODID:NingEventWidget-v1
VERSION:2.0
METHOD:PUBLISH
BEGIN:VEVENT
UID:4320450:Event:2036
DTSTAMP:20260425T144300Z
SUMMARY:BarAIDS Philly
DESCRIPTION:A fun night out that benefits four agencies partnered to f
 ight HIV/AIDS. Local Bars, Taverns, and Cafe's are donating a portion 
 of their revenue to combat HIV/AIDS.\n\nWhere will you go? Have a bar 
 or a cafe or a tavern? Contact us.\n\nBike Stop - Cafe Cret - City Tap
  House - Fergie's - Knock -Nineteen - Small Oven Bakery at Tutti Frutt
 i Frozen Yogurt\n- Tabu - Tavern on Camac - Woody's\n\nhttp://twitter.
 com/baraidsphilly\nhttp://www.facebook.com/BarAIDSPhiladelphia\n\n\nFo
 r more information visit http://phillytodo.com/events/baraids-philly
DTSTART:20100826T040000Z
DTEND:20100827T035900Z
CATEGORIES:fundraiser
LOCATION:Bars, Taverns, Cafes
WEBSITE:http://actionaids.org/events/bar-aids
URL:http://actionaids.org/events/bar-aids
CONTACT:215.981.0088
ORGANIZER:ActionAIDS, AIDS Law PA, Mazzoni, Philly FIGHT
ATTACH;FMTTYPE="image/jpeg":http://storage.ning.com/topology/rest/1.0/
 file/get/3054950471?profile=original
ATTENDEE;ROLE=REQ-PARTICIPANT;PARTSTAT=ACCEPTED;RSVP=TRUE;CN=ActionAID
 S:http://phillytodo.com/profile/ActionAIDS
END:VEVENT
END:VCALENDAR
