BEGIN:VCALENDAR
PRODID:NingEventWidget-v1
VERSION:2.0
METHOD:PUBLISH
BEGIN:VEVENT
UID:4320450:Event:33152
DTSTAMP:20260425T142627Z
SUMMARY:\"Bangarang\" Performs in Victory Beer Hall
DESCRIPTION:Join us for Philly's BIGGEST party as \"Bangarang\" rocks 
 the stage inside Victory Beer Hall starting at 8pm.Contact parties@xfi
 nitylive.com to add your name to the guest list and to book your VIP P
 arty during the show.Free parking is available after 7:30pm.\n\nFor mo
 re information visit http://phillytodo.com/events/bangarang-performs-i
 n-victory-beer-hall
DTSTART:20130721T000000Z
DTEND:20130721T060000Z
CATEGORIES:live, music
LOCATION:XFINITY Live! Philadelphia
WEBSITE:http://www.xfinitylive.com
URL:http://www.xfinitylive.com
CONTACT:215-609-1678
ORGANIZER;CN="Stepfanie McCaffrey":http://phillytodo.com/profile/Stepf
 anieMcCaffrey
ATTACH;FMTTYPE="image/jpeg":http://storage.ning.com/topology/rest/1.0/
 file/get/3054966354?profile=original
ATTENDEE;ROLE=REQ-PARTICIPANT;PARTSTAT=ACCEPTED;RSVP=TRUE;CN="Stepfani
 e McCaffrey":http://phillytodo.com/profile/StepfanieMcCaffrey
END:VEVENT
END:VCALENDAR
