BEGIN:VCALENDAR
PRODID:NingEventWidget-v1
VERSION:2.0
METHOD:PUBLISH
BEGIN:VEVENT
UID:4320450:Event:33468
DTSTAMP:20260425T161828Z
SUMMARY:\"Bangarang\" Performs in Victory Beer Hall
DESCRIPTION:Join us as \"Bangarang\" rocks the stage live inside Victo
 ry Beer Hall starting at 8pm.Contact parties@xfinitylive.com to add 
 your name to the guest list and to book your VIP Party during the show
 .Free parking is available all day and night.\n\nFor more information 
 visit http://phillytodo.com/events/bangarang-performs-in-victory-beer-
 hall-5
DTSTART:20130811T000000Z
DTEND:20130811T060000Z
CATEGORIES:live, music
LOCATION:XFINITYLive! Philadelphia
WEBSITE:http://www.xfinitylive.com
URL:http://www.xfinitylive.com
CONTACT:215-609-1678
ORGANIZER;CN="Stepfanie McCaffrey":http://phillytodo.com/profile/Stepf
 anieMcCaffrey
ATTACH;FMTTYPE="image/jpeg":http://storage.ning.com/topology/rest/1.0/
 file/get/3054967266?profile=original
ATTENDEE;ROLE=REQ-PARTICIPANT;PARTSTAT=ACCEPTED;RSVP=TRUE;CN="Stepfani
 e McCaffrey":http://phillytodo.com/profile/StepfanieMcCaffrey
END:VEVENT
END:VCALENDAR
