BEGIN:VCALENDAR
PRODID:NingEventWidget-v1
VERSION:2.0
METHOD:PUBLISH
BEGIN:VEVENT
UID:4320450:Event:33395
DTSTAMP:20260425T144329Z
SUMMARY:\"Bangarang\" Performs in Victory Beer Hall
DESCRIPTION:Join us for Philly's BIGGEST party as \"Bangarang\" rocks 
 the stage live inside Victory Beer Hall.Contact parties@xfinitylive.c
 om to add your name to the guest list and to book your VIP Party duri
 ng the show.Free parking is available after 8:30PM.\n\nFor more inform
 ation visit http://phillytodo.com/events/bangarang-performs-in-victory
 -beer-hall-4
DTSTART:20130810T000000Z
DTEND:20130810T060000Z
CATEGORIES:live, music
LOCATION:XFINITYLive! Philadelphia
WEBSITE:http://www.xfinitylive.com
URL:http://www.xfinitylive.com
CONTACT:215-609-1678
ORGANIZER;CN="Stepfanie McCaffrey":http://phillytodo.com/profile/Stepf
 anieMcCaffrey
ATTACH;FMTTYPE="image/jpeg":
ATTENDEE;ROLE=REQ-PARTICIPANT;PARTSTAT=ACCEPTED;RSVP=TRUE;CN="Stepfani
 e McCaffrey":http://phillytodo.com/profile/StepfanieMcCaffrey
END:VEVENT
END:VCALENDAR
