BEGIN:VCALENDAR
PRODID:NingEventWidget-v1
VERSION:2.0
METHOD:PUBLISH
BEGIN:VEVENT
UID:4320450:Event:170450
DTSTAMP:20260425T124303Z
SUMMARY:BalletX Summer Series 2022
DESCRIPTION:BalletX, Philadelphia’s premier contemporary ballet, ret
 urns to The Wilma Theater on the Avenue of the Arts. Prepare to be blo
 wn away with a week-long performance series featuring world premieres 
 by three of today’s brightest rising choreographic stars: Tiler Peck
 , Gustavo Ramirez Sansano, and Jamar Roberts.\n\nJuly 13 at 8:00\nJuly
  14 at 8:00\nJuly 15 at 8:00\nJuly 16 at 2:00 & 8:00\nJuly 17 at 2:00\
 n\nMEET THE CHOREOGRAPHERS\nTiler Peck\nTiler Peck, regarded as a “d
 ance luminary” by The Washington Post and “the ballerina who can s
 top time” by The New York Times, is an award-winning Principal Dance
 r with the New York City Ballet, actress, choreographer, author, and d
 esigner. Tiler, a frequent collaborator with the Vail Dance Festival, 
 joins BalletX for her first work on the company, set to a composition 
 by renowned flutist and composer, Valerie Coleman.\n\nGustavo Ramirez 
 Sansano\nGustavo Ramirez Sansano is the director of TITOYAYA and the c
 reator of works for Nederlands Dans Theater and Ballet BC, among many 
 others. He returns after his hit BalletX Beyond film, Hernando’s Hid
 eaway, with a work set to the music of Bert Kaempfert and inspired by 
 the famed saying, “Love has no cure, but it is the only medicine for
  all ills.”\nSponsored by Spain-USA Foundation\n\nJamar Roberts\nJam
 ar Roberts, whose choreography has been praised as “striking” and 
 “virtuosic” by The New York Times, is a Bessie Award-winner and Al
 vin Ailey American Dance Theater’s Resident Choreographer. He first 
 collaborated with BalletX at the 2021 Vail Dance Festival, and makes h
 is Philadelphia debut with a new work set to music by Don Shirley, leg
 endary pianist, composer, and inspiration for the film Green Book. \n
 \nFor more information visit http://phillytodo.com/events/balletx-summ
 er-series-2022
DTSTART:20220714T000000Z
DTEND:20220717T200000Z
CATEGORIES:dance, performance
LOCATION:Wilma Theater
WEBSITE:https://www.balletx.org/
URL:https://www.balletx.org/
CONTACT:(215) 225-5389
ORGANIZER;CN=BalletX:http://phillytodo.com/profile/BalletX
ATTACH;FMTTYPE="image/jpeg":https://storage.ning.com/topology/rest/1.0
 /file/get/10227029472?profile=original
ATTENDEE;ROLE=REQ-PARTICIPANT;PARTSTAT=ACCEPTED;RSVP=TRUE;CN=BalletX:h
 ttp://phillytodo.com/profile/BalletX
END:VEVENT
END:VCALENDAR
