BEGIN:VCALENDAR
PRODID:NingEventWidget-v1
VERSION:2.0
METHOD:PUBLISH
BEGIN:VEVENT
UID:4320450:Event:52505
DTSTAMP:20260425T114224Z
SUMMARY:BalletX Summer Series 2018
DESCRIPTION:Penny Saunders, winner of the 2016 Princess Grace Choreogr
 aphic Fellowship, joins us for her first world premiere on BalletX, af
 ter creating work on such companies as Whim W’him and Hubbard Street
  Dance Chicago. Saunders will collaborate with Rosie Langabeer, co-cre
 ator and composer of Sunset, o639 Hours, on the ballet’s score, to b
 e performed live by Langabeer and guest artists. Matthew Neenan, recog
 nized by The New York Times as “one of the strange originals of Amer
 ican ballet,” has hinted that his new Summer Series ballet will cent
 er around a mysterious dinner party and the marriage of language and m
 ovement. Neenan will mentor BalletX’s 2018 Choreographic Fellow, And
 rew McNicol. Chosen for the Fellowship from a competitive pool of inte
 rnational applicants, McNicol has created work for The New York Choreo
 graphic Institute and is described as “talented beyond his years” 
 by Ballet News.\n\nFor more information visit http://phillytodo.com/ev
 ents/balletx-summer-series-2018
DTSTART:20180712T000000Z
DTEND:20180712T020000Z
CATEGORIES:dance
LOCATION:The Wilma Theater
WEBSITE:https://www.google.com/maps/place/The+Wilma+Theater/@39.947269
 1,-75.1664967,17z/data=!3m1!4b1!4m5!3m4!1s0x89c6c62519bba32d:0xd28eb46
 26f82b963!8m2!3d39.947265!4d-75.164308
URL:https://www.google.com/maps/place/The+Wilma+Theater/@39.9472691,-7
 5.1664967,17z/data=!3m1!4b1!4m5!3m4!1s0x89c6c62519bba32d:0xd28eb4626f8
 2b963!8m2!3d39.947265!4d-75.164308
CONTACT:
ORGANIZER;CN=BalletX:http://phillytodo.com/profile/BalletX
ATTACH;FMTTYPE="image/jpeg":http://storage.ning.com/topology/rest/1.0/
 file/get/3055009615?profile=original
ATTENDEE;ROLE=REQ-PARTICIPANT;PARTSTAT=ACCEPTED;RSVP=TRUE;CN=BalletX:h
 ttp://phillytodo.com/profile/BalletX
END:VEVENT
END:VCALENDAR
