BEGIN:VCALENDAR
PRODID:NingEventWidget-v1
VERSION:2.0
METHOD:PUBLISH
BEGIN:VEVENT
UID:4320450:Event:170447
DTSTAMP:20260425T124901Z
SUMMARY:BalletX Spring Series 2022
DESCRIPTION:BalletX, Philadelphia’s premier contemporary ballet, ret
 urns to the iconic TD Pavilion at the Mann after last June’s knockou
 t debut for a two-show limited run featuring world premieres by Jennif
 er Archibald and Annabelle Lopez Ochoa, alongside the return of a comp
 any classic: BalletX co-founder Matthew Neenan’s The Last Glass. Spr
 ing Series is part of the Mann’s Picnic series. Audiences are invite
 d to arrive early to enjoy live music and family-friendly dance classe
 s and activities, while taking in unforgettable views of the city from
  the Mann’s incredible campus in Fairmount Park.\n\nMay 18 at 8:00\n
 May 19 at 8:00\n\nMEET THE CHOREOGRAPHERS\n\nJennifer Archibald\nJenni
 fer Archibald is the acclaimed Founder and Artistic Director of Arch D
 ance Company in New York and Resident Choreographer of Cincinnati Ball
 et whose work has been hailed as “mesmerizing” (Arts Air) and “s
 pellbinding” (Revue). She makes her BalletX debut with a premiere ex
 ploring the intersection of classical ballet and house music.\n\nAnnab
 elle Lopez Ochoa\nAnnabelle Lopez Ochoa is an award-winning Colombo-Be
 lgian choreographer who has created works for over 70 international da
 nce companies. Her 2019 BalletX premiere, The Little Prince, was named
  “one of the year’s must-see shows” by The Philadelphia Inquirer
  and has toured to venues across the nation.\n\nMatthew Neenan’s The
  Last Glass\nMatthew Neenan’s The Last Glass, a signature BalletX wo
 rk, is set to the music of indie band Beirut and has been performed at
  prestigious venues worldwide. Neenan co-founded BalletX in 2005, and 
 has choreographed on major companies including Philadelphia Ballet, Ne
 w York City Ballet, Pacific Northwest Ballet, and Parsons Dance.\n\nFo
 r more information visit http://phillytodo.com/events/balletx-spring-s
 eries-2022
DTSTART:20220519T000000Z
DTEND:20220520T020000Z
CATEGORIES:dance, performance
LOCATION:TD Pavilion at the Mann
WEBSITE:https://www.balletx.org/
URL:https://www.balletx.org/
CONTACT:(215) 225-5389
ORGANIZER;CN=BalletX:http://phillytodo.com/profile/BalletX
ATTACH;FMTTYPE="image/jpeg":https://storage.ning.com/topology/rest/1.0
 /file/get/10227027054?profile=original
ATTENDEE;ROLE=REQ-PARTICIPANT;PARTSTAT=ACCEPTED;RSVP=TRUE;CN=BalletX:h
 ttp://phillytodo.com/profile/BalletX
END:VEVENT
END:VCALENDAR
