BEGIN:VCALENDAR
PRODID:NingEventWidget-v1
VERSION:2.0
METHOD:PUBLISH
BEGIN:VEVENT
UID:4320450:Event:26635
DTSTAMP:20260425T160115Z
SUMMARY:BalletX&O Party
DESCRIPTION:Join BalletX as we celebrate an exciting year of prestigio
 us national tours, groundbreaking world premieres, and a thriving comm
 unity of friends and family — hugs and kisses all around at the 2012
  BalletX&O Party!\nEntertainment by renowned comedian and BalletX Tru
 stee Chuck Nice, celebrated Philadelphia cabaret performer Martha Grah
 am Cracker, and company dancers from BalletX.\nKindly RSVP by Wednesd
 ay, June 6 by clicking here.\nVisit BalletX.org for more details. \n
 \nFor more information visit http://phillytodo.com/events/balletx-o-pa
 rty
DTSTART:20120613T220000Z
DTEND:20120614T010000Z
CATEGORIES:fundraiser
LOCATION:Top of the Tower
WEBSITE:http://balletx.org/balletx_oparty.html
URL:http://balletx.org/balletx_oparty.html
CONTACT:215-893-9456 x128
ORGANIZER:BalletX
ATTACH;FMTTYPE="image/jpeg":http://storage.ning.com/topology/rest/1.0/
 file/get/3054958216?profile=original
ATTENDEE;ROLE=REQ-PARTICIPANT;PARTSTAT=ACCEPTED;RSVP=TRUE;CN="Jennifer
  Burrini":http://phillytodo.com/profile/JenniferBurrini
END:VEVENT
END:VCALENDAR
