BEGIN:VCALENDAR
PRODID:NingEventWidget-v1
VERSION:2.0
METHOD:PUBLISH
BEGIN:VEVENT
UID:4320450:Event:170510
DTSTAMP:20260425T125012Z
SUMMARY:BalletX at Glen Foerd
DESCRIPTION:BalletX, Philadelphia’s premier contemporary ballet, inv
 ites audiences to experience one-of-a-kind performances at Glen Foerd 
 Mansion, a gorgeous hidden gem and historic site on the Delaware River
  located just minutes north of Center City Philadelphia. BalletX at Gl
 en Foerd features a world premiere by Tsai Hsi Hung, BalletX’s 2022 
 Choreographic Fellow, and the launch of the Choreographic Incubator, a
  new initiative designed to offer emerging choreographers a platform f
 or freedom and experimentation, with new works by Nicole Caruana, Tomm
 ie-Waheed Evans, and Caili Quan.\n\nSeating at this performance series
  is limited. Audiences are invited to come early for festive live musi
 c and complimentary tours of the historic Glen Foerd Mansion prior to 
 each performance.\n\nApril 19 at 7:30\nApril 20 at 2:00 & 7:30\nApril 
 21 at 7:30\n\nMEET THE CHOREOGRAPHERS\n\nTsai Hsi Hung\nTsai Hsi Hung,
  BalletX’s 2022 Choreographic Fellow and founder of QBC Company in N
 ew York, returns after the success of her BalletX Beyond short film Tw
 o X Two to create a new work exploring the different faces of unconven
 tional beauty.\n\nNicole Caruana\nNicole Caruana, known for her “fun
 , joyous and quirky choreography” (Mooney on Theatre), creates a pre
 miere set to the transcendent voice of opera singer and activist Maria
 n Anderson.\n\nTommie-Waheed Evans\nTommie-Waheed Evans, a 2021 Guggen
 heim Fellow and former PHILADANCO dancer praised for “full throttle 
 performance” (The Dance Journal), premieres a new work inspired by s
 piritual music’s impact on his life and artistry, featuring a live v
 ocal performance by frequent BalletX collaborator, Tara Middleton.\n\n
 Caili Quan\nCaili Quan, a former BalletX dancer whose choreography has
  been hailed as “exciting and unexpected” (The Statesman), returns
  with a premiere inspired by identity, developed in partnership with N
 orth Philadelphia’s Esperanza.\n\nFor more information visit http://
 phillytodo.com/events/balletx-at-glen-foerd
DTSTART:20220419T233000Z
DTEND:20220422T013000Z
CATEGORIES:dance, performance
LOCATION:Glen Foerd
WEBSITE:https://www.balletx.org/
URL:https://www.balletx.org/
CONTACT:(215) 225-5389
ORGANIZER;CN=BalletX:http://phillytodo.com/profile/BalletX
ATTACH;FMTTYPE="image/jpeg":https://storage.ning.com/topology/rest/1.0
 /file/get/10227024088?profile=original
ATTENDEE;ROLE=REQ-PARTICIPANT;PARTSTAT=ACCEPTED;RSVP=TRUE;CN=BalletX:h
 ttp://phillytodo.com/profile/BalletX
END:VEVENT
END:VCALENDAR
