BEGIN:VCALENDAR
PRODID:NingEventWidget-v1
VERSION:2.0
METHOD:PUBLISH
BEGIN:VEVENT
UID:4320450:Event:54657
DTSTAMP:20260425T112432Z
SUMMARY:Ball on the Square
DESCRIPTION:The Young Friends of Rittenhouse Square cordially invite y
 ou to mixand mingle with other Philadelphia professionals for an eveni
 ng of fun and charity.\nThe Young Friends Ball on The Square is a spec
 tacular black-tie gala with the unique combination of ambiance, entert
 ainment and society that make it one of the most high-profile events o
 f our city’s charity season. This year the Young Friends will have t
 heir very own event held the day after the main ball under the tent on
  the square itself. With highlights that include specialty cocktails, 
 delectable hors d’oeuvres and entertainment by renowned DJ Adrian Ha
 rdy along with notable dance band Brian Williams and the Get Back.\n 
 \nThe Young Friends of Rittenhouse Square is a division of the Friends
  of Rittenhouse Square for members 21 to 41 years old. In recent years
 , the Young Friends contributed more than $25,000 for the ongoing care
  of The Square. The Friends of Rittenhouse Square is a non-profit orga
 nization that funds and manages a majority of the programs needed to s
 ustain this amazing landmark.\n\nFor more information visit http://phi
 llytodo.com/events/ball-on-the-square
DTSTART:20180622T233000Z
DTEND:20180623T033000Z
CATEGORIES:gala
LOCATION:Rittenhouse Square Park
WEBSITE:http://friendsofrittenhouse.org/events/all/young-friends-ball-
 on-the-square/
URL:http://friendsofrittenhouse.org/events/all/young-friends-ball-on-t
 he-square/
CONTACT:267-586-5675
ORGANIZER:The Young Friends of Rittenhouse
ATTACH;FMTTYPE="image/jpeg":http://storage.ning.com/topology/rest/1.0/
 file/get/3055010695?profile=original
ATTENDEE;ROLE=REQ-PARTICIPANT;PARTSTAT=ACCEPTED;RSVP=TRUE;CN=CashmanAs
 soc:http://phillytodo.com/profile/CashmanAssoc
END:VEVENT
END:VCALENDAR
