BEGIN:VCALENDAR
PRODID:NingEventWidget-v1
VERSION:2.0
METHOD:PUBLISH
BEGIN:VEVENT
UID:4320450:Event:54501
DTSTAMP:20260425T131121Z
SUMMARY:Bad Sweater and Bloody Mary Happy Hour with Rowhouse Spirits
DESCRIPTION:We will join together with our worst holiday sweaters and 
 toast the final event of our 20th anniversary year! Warm up with Dean 
 Browne of Rowhouse Spirits for a Beartrap Hot Toddy or Bloody Greensgr
 ow Marys to sip while you cast your vote for the best bad sweate. Ann 
 Karlen from the Fair Food Farmstand will bring a selection of fine loc
 al cheeses to pair with your holiday events. And Greensgrow’s own Ch
 efs Carolynn and Hugo will have finger foods to accompany your cocktai
 ls!  Prizes for Best Worst sweater of the year.\n\nFor more informatio
 n visit http://phillytodo.com/events/bad-sweater-amp-bloody-mary-happy
 -hour-with-rowhouse-spirits
DTSTART:20171217T160000Z
DTEND:20171217T180000Z
CATEGORIES:holiday, event
LOCATION:Greensgrow Farms
WEBSITE:
URL:
CONTACT:
ORGANIZER;CN="Greensgrow Farms":http://phillytodo.com/profile/Greensgr
 owFarms
ATTACH;FMTTYPE="image/jpeg":
ATTENDEE;ROLE=REQ-PARTICIPANT;PARTSTAT=ACCEPTED;RSVP=TRUE;CN="Greensgr
 ow Farms":http://phillytodo.com/profile/GreensgrowFarms
END:VEVENT
END:VCALENDAR
