BEGIN:VCALENDAR
PRODID:NingEventWidget-v1
VERSION:2.0
METHOD:PUBLISH
BEGIN:VEVENT
UID:4320450:Event:49608
DTSTAMP:20260425T144302Z
SUMMARY:Bacon Week
DESCRIPTION:Atlantic City’s premier bacon event is back by popular d
 emand. Indulge in unique bacon dishes including bacon cocktails, desse
 rts, and more. Bite into a super half pound BLT, savor a bacon ice cre
 am sundae, or even drink your bacon in a bacon infused martini. We’r
 e serving up bacon every which way during Bacon Week March 19 through
  March 25, 2017. To view the menu, visit tropicana.net/baconweek.\n\n
 For more information visit http://phillytodo.com/events/bacon-week
DTSTART:20170319T040000Z
DTEND:20170326T035900Z
CATEGORIES:food
LOCATION:Tropicana Casino and Resort
WEBSITE:
URL:
CONTACT:
ORGANIZER;CN=CashmanAssoc:http://phillytodo.com/profile/CashmanAssoc
ATTACH;FMTTYPE="image/jpeg":
ATTENDEE;ROLE=REQ-PARTICIPANT;PARTSTAT=ACCEPTED;RSVP=TRUE;CN=CashmanAs
 soc:http://phillytodo.com/profile/CashmanAssoc
END:VEVENT
END:VCALENDAR
