BEGIN:VCALENDAR
PRODID:NingEventWidget-v1
VERSION:2.0
METHOD:PUBLISH
BEGIN:VEVENT
UID:4320450:Event:58713
DTSTAMP:20260425T130546Z
SUMMARY:Back From Exile Homecoming Block Party
DESCRIPTION:Get ready for a Saturday fun-day full of celebratory vibes
  in honor of Theatre Exile’s neighbors and friends. The community’
 s support over the last 23 years has led the organization to a major m
 ilestone – a newly renovated theater!\nEmceed by comedian Joe Conkli
 n, the three-hour soiree takes over 13th Street between Wharton and Re
 ed streets, and offers entertainment for the entire family. Take a tou
 r of the brand-new building, drink al fresco in the beer garden, get y
 our groove on with live music and a Mummers performance, catch a Q&A w
 ith NFL Hall-of-Famer and native Philadelphian Ray Didinger, munch on 
 bites from local food trucks, jump around in the bounce house, and mor
 e!  \nVisit theatreexile.org for additional details.\n\nFor more info
 rmation visit http://phillytodo.com/events/back-from-exile-homecoming-
 block-party
DTSTART:20190608T200000Z
DTEND:20190608T230000Z
CATEGORIES:family-friendly, "party."
LOCATION:Center City
WEBSITE:http://www.theatreexile.org/episodes/back-exile.html
URL:http://www.theatreexile.org/episodes/back-exile.html
CONTACT:2158678060
ORGANIZER;CN="Bryan Chan":http://phillytodo.com/profile/BryanChan
ATTACH;FMTTYPE="image/jpeg":
ATTENDEE;ROLE=REQ-PARTICIPANT;PARTSTAT=ACCEPTED;RSVP=TRUE;CN="Bryan Ch
 an":http://phillytodo.com/profile/BryanChan
END:VEVENT
END:VCALENDAR
