BEGIN:VCALENDAR
PRODID:NingEventWidget-v1
VERSION:2.0
METHOD:PUBLISH
BEGIN:VEVENT
UID:4320450:Event:59806
DTSTAMP:20260425T114224Z
SUMMARY:Babel at Theatre Exile
DESCRIPTION:Buy your tickets today for Theatre Exile’s Babel, by Jac
 queline Goldfinger and directed by Theatre Exile’s Producing Artisti
 c Director, Deborah Block. The show opens at Theatre Exile’s new Sou
 th Philadelphia performance space on February 13, 2020 and runs throug
 h March 8. Babel features Bi Jean Ngo and Frank Nardi, Jr. and was the
  winner of the 2017 Smith Prize for Political Theater and featured on 
 the Kilroy’s List. The play centers around a talking stork, lesbian 
 moms, and the power to “build” your own baby. In this version of a
  near future society, prospective parents learn within the first weeks
  of conception which traits their child will have and what behaviors i
 t is likely to exhibit. With rapid advances in reproductive technology
  today, modern eugenics is science’s Wild West. How far will we go 
 when playing God?\n\nFor more information visit http://phillytodo.com/
 events/babel-at-theatre-exile
DTSTART:20200214T000000Z
DTEND:20200309T020000Z
CATEGORIES:theatre
LOCATION:Theatre Exile
WEBSITE:https://theatreexile.org/shows/babel/
URL:https://theatreexile.org/shows/babel/
CONTACT:215-218-4022
ORGANIZER;CN="Bryan Chan":http://phillytodo.com/profile/BryanChan
ATTACH;FMTTYPE="image/jpeg":https://storage.ning.com/topology/rest/1.0
 /file/get/3741223845?profile=original
ATTENDEE;ROLE=REQ-PARTICIPANT;PARTSTAT=ACCEPTED;RSVP=TRUE;CN="Bryan Ch
 an":http://phillytodo.com/profile/BryanChan
END:VEVENT
END:VCALENDAR
