BEGIN:VCALENDAR
PRODID:NingEventWidget-v1
VERSION:2.0
METHOD:PUBLISH
BEGIN:VEVENT
UID:4320450:Event:45049
DTSTAMP:20260425T173711Z
SUMMARY:B.Y.O. Screening of Minions
DESCRIPTION:Join us for a free screening of Universal’s animated com
 edy, Minions! Enjoy free popcorn, courtesy of the Market & Shops at Co
 mcast Center!  This is a BYO event so bring a beverage of your choice
 , and we will supply the ice buckets and bottle openers! Our vendors w
 ill also be open for guests to purchase lunch, snacks & beverages.\n\n
 For more information visit http://phillytodo.com/events/b-y-o-screenin
 g-of-minions
DTSTART:20160220T180000Z
DTEND:20160220T200000Z
CATEGORIES:free, movie, screening
LOCATION:The Market & Shops at Comcast Center
WEBSITE:https://www.facebook.com/events/1562185364106504/
URL:https://www.facebook.com/events/1562185364106504/
CONTACT:215-627-1060
ORGANIZER:The Market & Shops at Comcast Center
ATTACH;FMTTYPE="image/jpeg":http://storage.ning.com/topology/rest/1.0/
 file/get/3054993587?profile=original
ATTENDEE;ROLE=REQ-PARTICIPANT;PARTSTAT=ACCEPTED;RSVP=TRUE;CN=CashmanAs
 soc:http://phillytodo.com/profile/CashmanAssoc
END:VEVENT
END:VCALENDAR
