BEGIN:VCALENDAR
PRODID:NingEventWidget-v1
VERSION:2.0
METHOD:PUBLISH
BEGIN:VEVENT
UID:4320450:Event:45123
DTSTAMP:20260425T162638Z
SUMMARY:B.Y.O. Screening of Ant Man
DESCRIPTION:Calling all Marvel fans—catch a free B.Y.O. screening of
  Ant Man at the Market & Shops at Comcast Center this Saturday, Januar
 y 30th at 1pm! Enjoy free popcorn, and bring your favorite beer or win
 e to sip on while watching, we will provide ice buckets and bottle ope
 ners!\n\nFor more information visit http://phillytodo.com/events/b-y-o
 -screening-of-ant-man
DTSTART:20160130T180000Z
DTEND:20160130T200000Z
CATEGORIES:free, movie, screening
LOCATION:The Market & Shops at Comcast Center
WEBSITE:https://www.facebook.com/events/210207675992582/
URL:https://www.facebook.com/events/210207675992582/
CONTACT:215-627-1060
ORGANIZER:The Market & Shops at comcast Center
ATTACH;FMTTYPE="image/jpeg":http://storage.ning.com/topology/rest/1.0/
 file/get/3054994374?profile=original
ATTENDEE;ROLE=REQ-PARTICIPANT;PARTSTAT=ACCEPTED;RSVP=TRUE;CN=CashmanAs
 soc:http://phillytodo.com/profile/CashmanAssoc
END:VEVENT
END:VCALENDAR
