BEGIN:VCALENDAR
PRODID:NingEventWidget-v1
VERSION:2.0
METHOD:PUBLISH
BEGIN:VEVENT
UID:4320450:Event:36651
DTSTAMP:20260425T144251Z
SUMMARY:B.Y.O Quizzo
DESCRIPTION:Bring your own beer or wine for a rousing game of Quizzo w
 ith co-hosts Rad Girls and Johnny Goodtimes! Event is free and open to
  the public, and rad guys are welcome too! All guests receive a $5 vou
 cher for use in the Market & Shops at Comcast Center. Tweet with us @M
 arketComcast, @GirlsAreRad, @JohnnyGoodtimes, #TSQUARED\n\nRSVP: http
 ://rad-girls.ticketleap.com/quizzo/\n \nABOUT #TSQUARED at The Market
  & Shops at Comcast Center:\nThe new signature event series hosted by 
 The Market & Shops at Comcast Center, aptly named #TSQUARED, will tak
 e place two Tuesdays every month from 5 p.m. to 7 p.m. beginning in 
 April 2014 through November 2014. Event formats will include fashion a
 nd beauty pop-up parties, art installations, fitness, health and profe
 ssional seminars, musical acts and more. For more information visit w
 ww.themarketandshopsatcomcastcenter.com\n\nFor more information visit 
 http://phillytodo.com/events/b-y-o-quizzo
DTSTART:20140513T210000Z
DTEND:20140513T230000Z
CATEGORIES:"b.y.o", quizzo, the, market, "&", shops, "#tsquared"
LOCATION:The Market & Shops at Comcast Center, 1701 JFK Boulevard Phil
 adelphia, PA 19103
WEBSITE:http://www.themarketandshopsatcomcastcenter.com
URL:http://www.themarketandshopsatcomcastcenter.com
CONTACT:
ORGANIZER;CN=CashmanAssoc:http://phillytodo.com/profile/CashmanAssoc
ATTACH;FMTTYPE="image/jpeg":http://storage.ning.com/topology/rest/1.0/
 file/get/3054974129?profile=original
ATTENDEE;ROLE=REQ-PARTICIPANT;PARTSTAT=ACCEPTED;RSVP=TRUE;CN=CashmanAs
 soc:http://phillytodo.com/profile/CashmanAssoc
END:VEVENT
END:VCALENDAR
