BEGIN:VCALENDAR
PRODID:NingEventWidget-v1
VERSION:2.0
METHOD:PUBLISH
BEGIN:VEVENT
UID:4320450:Event:36780
DTSTAMP:20260425T130612Z
SUMMARY:B.Y.O. QUIZZO with Johnny Goodtimes
DESCRIPTION:Join us after work for a rousing game of Quizzo! Bring you
 r own beer or wine for this FREE and open to the public event. The win
 ning quizzo team will win a prize package valued at over $100, includi
 ng a $100 gift certificate to The Market & Shops at Comcast Center! Tw
 eet with us @MarketComcast, @GirlsAreRad, @JohnnyGoodtimes, #TSQUARED\
 n \n\nFor more information visit http://phillytodo.com/events/b-y-o-q
 uizzo-with-johnny-goodtimes
DTSTART:20140610T213000Z
DTEND:20140611T000000Z
CATEGORIES:nightlife
LOCATION:The Market & Shops at Comcast Center
WEBSITE:https://www.google.com/maps/place/The+Market+and+Shops+at+Comc
 ast+Center/@39.954961,-75.16866,17z/data=!3m1!4b1!4m2!3m1!1s0x89c6c631
 9a947a7d:0xc7bf7403f15b3c21
URL:https://www.google.com/maps/place/The+Market+and+Shops+at+Comcast+
 Center/@39.954961,-75.16866,17z/data=!3m1!4b1!4m2!3m1!1s0x89c6c6319a94
 7a7d:0xc7bf7403f15b3c21
CONTACT:2126270850
ORGANIZER;CN=CashmanAssoc:http://phillytodo.com/profile/CashmanAssoc
ATTACH;FMTTYPE="image/jpeg":http://storage.ning.com/topology/rest/1.0/
 file/get/3054978141?profile=original
ATTENDEE;ROLE=REQ-PARTICIPANT;PARTSTAT=ACCEPTED;RSVP=TRUE;CN=CashmanAs
 soc:http://phillytodo.com/profile/CashmanAssoc
END:VEVENT
END:VCALENDAR
