BEGIN:VCALENDAR
PRODID:NingEventWidget-v1
VERSION:2.0
METHOD:PUBLISH
BEGIN:VEVENT
UID:4320450:Event:39104
DTSTAMP:20260425T163404Z
SUMMARY:B.Y.O Quizzo with Johnny Goodtimes and Rad Girls
DESCRIPTION:Grab a team, and your favorite beer or wine and join us fo
 r Quizzo with Johnny Goodtimes with our co-hosts rad-girls.com! Event
  is FREE and open to the public. Winning teams get $100 gift cards to 
 spend in the Market & Shops at Comcast Center! Let the games begin! \
 n\nFor more information visit http://phillytodo.com/events/b-y-o-quizz
 o-with-johnny-goodtimes-and-rad-girls-3
DTSTART:20141111T223000Z
DTEND:20141112T010000Z
CATEGORIES:"b.y.o", quizzo
LOCATION:The Market & Shops at Comcast Center
WEBSITE:https://www.facebook.com/events/765836056815509/
URL:https://www.facebook.com/events/765836056815509/
CONTACT:215-627-1060
ORGANIZER:The Market & Shops at Comcast Center
ATTACH;FMTTYPE="image/jpeg":http://storage.ning.com/topology/rest/1.0/
 file/get/3054985400?profile=original
ATTENDEE;ROLE=REQ-PARTICIPANT;PARTSTAT=ACCEPTED;RSVP=TRUE;CN=CashmanAs
 soc:http://phillytodo.com/profile/CashmanAssoc
END:VEVENT
END:VCALENDAR
