BEGIN:VCALENDAR
PRODID:NingEventWidget-v1
VERSION:2.0
METHOD:PUBLISH
BEGIN:VEVENT
UID:4320450:Event:38363
DTSTAMP:20260425T163458Z
SUMMARY:B.Y.O. QUIZZO with Johnny Goodtimes and Rad Girls
DESCRIPTION:Grab a team, and your favorite beer or wine and join us fo
 r Quizzo with Johnny Goodtimes with our co-hosts rad-girls.com! Event
  is FREE and open to the public. Winning teams get $100 gift cards to 
 spend in the Market & Shops at Comcast Center! Let the games begin! \
 n\nFor more information visit http://phillytodo.com/events/b-y-o-quizz
 o-with-johnny-goodtimes-and-rad-girls-2
DTSTART:20140909T213000Z
DTEND:20140910T000000Z
CATEGORIES:quizzo
LOCATION:The Market & Shops at Comcast Center
WEBSITE:https://www.facebook.com/events/1459447317659318/
URL:https://www.facebook.com/events/1459447317659318/
CONTACT:2156271060
ORGANIZER;CN=CashmanAssoc:http://phillytodo.com/profile/CashmanAssoc
ATTACH;FMTTYPE="image/jpeg":
ATTENDEE;ROLE=REQ-PARTICIPANT;PARTSTAT=ACCEPTED;RSVP=TRUE;CN=CashmanAs
 soc:http://phillytodo.com/profile/CashmanAssoc
END:VEVENT
END:VCALENDAR
