BEGIN:VCALENDAR
PRODID:NingEventWidget-v1
VERSION:2.0
METHOD:PUBLISH
BEGIN:VEVENT
UID:4320450:Event:40893
DTSTAMP:20260425T130951Z
SUMMARY:B.Y.O Quizzo with Johnny Goodtimes and Drink Philly
DESCRIPTION:Grab a team, and your favorite beer or wine and join us fo
 r Quizzo with Johnny Goodtimes and Drink Philly! Event is FREE and ope
 n to the public. Winning teams get $100 gift cards to spend in the Mar
 ket & Shops at Comcast Center! Let the games begin!\n \nTweet with us
  @MarketComcast, @JohnnyGoodtimes, @DrinkPhilly\n\n\nFor more informat
 ion visit http://phillytodo.com/events/b-y-o-quizzo-with-johnny-goodti
 mes-and-drink-philly-5
DTSTART:20150609T213000Z
DTEND:20150610T020000Z
CATEGORIES:free, quizzo
LOCATION:The Market & Shops at Comcast Center
WEBSITE:https://www.facebook.com/events/1639943982892466/
URL:https://www.facebook.com/events/1639943982892466/
CONTACT:215-627-1060
ORGANIZER;CN=CashmanAssoc:http://phillytodo.com/profile/CashmanAssoc
ATTACH;FMTTYPE="image/jpeg":http://storage.ning.com/topology/rest/1.0/
 file/get/3054988808?profile=original
ATTENDEE;ROLE=REQ-PARTICIPANT;PARTSTAT=ACCEPTED;RSVP=TRUE;CN=CashmanAs
 soc:http://phillytodo.com/profile/CashmanAssoc
END:VEVENT
END:VCALENDAR
