BEGIN:VCALENDAR
PRODID:NingEventWidget-v1
VERSION:2.0
METHOD:PUBLISH
BEGIN:VEVENT
UID:4320450:Event:40874
DTSTAMP:20260425T130914Z
SUMMARY:B.Y.O. Quizzo with Johnny Goodtimes and Drink Philly
DESCRIPTION:Grab a team, and your favorite beer or wine and join us fo
 r Quizzo with Johnny Goodtimes and Drink Philly! Event is FREE and ope
 n to the public. Winning teams get $100 gift cards to spend in the Mar
 ket & Shops at Comcast Center! Let the games begin!\n \nTweet with us
  @MarketComcast, @JohnnyGoodtimes, @DrinkPhilly\n\nFor more informatio
 n visit http://phillytodo.com/events/b-y-o-quizzo-with-johnny-goodtime
 s-and-drink-philly-4
DTSTART:20150512T213000Z
DTEND:20150512T233000Z
CATEGORIES:quizzo, games, byo
LOCATION:The Market & Shops at Comcast Center
WEBSITE:https://www.facebook.com/events/458803207615833/
URL:https://www.facebook.com/events/458803207615833/
CONTACT:
ORGANIZER;CN=CashmanAssoc:http://phillytodo.com/profile/CashmanAssoc
ATTACH;FMTTYPE="image/jpeg":http://storage.ning.com/topology/rest/1.0/
 file/get/3054988473?profile=original
ATTENDEE;ROLE=REQ-PARTICIPANT;PARTSTAT=ACCEPTED;RSVP=TRUE;CN=CashmanAs
 soc:http://phillytodo.com/profile/CashmanAssoc
END:VEVENT
END:VCALENDAR
