BEGIN:VCALENDAR
PRODID:NingEventWidget-v1
VERSION:2.0
METHOD:PUBLISH
BEGIN:VEVENT
UID:4320450:Event:40308
DTSTAMP:20260425T143232Z
SUMMARY:B.Y.O. QUIZZO with Johnny Goodtimes and Drink Philly
DESCRIPTION:Grab a team, and your favorite beer or wine and join us fo
 r Quizzo with Johnny Goodtimes and Drink Philly! Event is FREE and op
 en to the public, and all guests will receive a $5 voucher to use athe
  Market & Shops at Comcast Center. Winning teams get $100 gift cards t
 o spend in the Market & Shops at Comcast Center! Let the games begin! 
  Tweet with us @MarketComcast, @JohnnyGoodtimes, @DrinkPhilly \n\nFor
  more information visit http://phillytodo.com/events/b-y-o-quizzo-with
 -johnny-goodtimes-and-drink-philly-2
DTSTART:20150310T213000Z
DTEND:20150310T223000Z
CATEGORIES:quizzo
LOCATION:Market & Shops at Comcast Center
WEBSITE:https://www.facebook.com/events/327675240765179
URL:https://www.facebook.com/events/327675240765179
CONTACT:(215) 496-1810
ORGANIZER;CN=CashmanAssoc:http://phillytodo.com/profile/CashmanAssoc
ATTACH;FMTTYPE="image/jpeg":http://storage.ning.com/topology/rest/1.0/
 file/get/3054987507?profile=original
ATTENDEE;ROLE=REQ-PARTICIPANT;PARTSTAT=ACCEPTED;RSVP=TRUE;CN=CashmanAs
 soc:http://phillytodo.com/profile/CashmanAssoc
END:VEVENT
END:VCALENDAR
