BEGIN:VCALENDAR
PRODID:NingEventWidget-v1
VERSION:2.0
METHOD:PUBLISH
BEGIN:VEVENT
UID:4320450:Event:39818
DTSTAMP:20260425T115439Z
SUMMARY:B.Y.O Quizzo with Johnny Goodtimes and Drink Philly
DESCRIPTION:Grab a team, and your favorite beer or wine and join us fo
 r Quizzo with Johnny Goodtimes and Drink Philly! Event is FREE and op
 en to the public. Winning teams get $100 gift cards to spend in the Ma
 rket & Shops at Comcast Center! Let the games begin!  Tweet with us @M
 arketComcast, @JohnnyGoodtimes, @DrinkPhilly\n\nFor more information v
 isit http://phillytodo.com/events/b-y-o-quizzo-with-johnny-goodtimes-a
 nd-drink-philly-1
DTSTART:20150210T223000Z
DTEND:20150211T003000Z
CATEGORIES:quizzo
LOCATION:The Market & Shops at Comcast Center
WEBSITE:https://www.facebook.com/events/351576308384408
URL:https://www.facebook.com/events/351576308384408
CONTACT:215-627-1060
ORGANIZER;CN=CashmanAssoc:http://phillytodo.com/profile/CashmanAssoc
ATTACH;FMTTYPE="image/jpeg":http://storage.ning.com/topology/rest/1.0/
 file/get/3054987343?profile=original
ATTENDEE;ROLE=REQ-PARTICIPANT;PARTSTAT=ACCEPTED;RSVP=TRUE;CN=CashmanAs
 soc:http://phillytodo.com/profile/CashmanAssoc
END:VEVENT
END:VCALENDAR
