BEGIN:VCALENDAR
PRODID:NingEventWidget-v1
VERSION:2.0
METHOD:PUBLISH
BEGIN:VEVENT
UID:4320450:Event:44901
DTSTAMP:20260425T142912Z
SUMMARY:B.Y.O. Quizzo With Johnny Goodtimes
DESCRIPTION:Tuesday is the new Thursday! Please join us at the Market 
 & Shops at Comcast Center every second Tuesday of the month starting J
 anuary 12 at 5:30 pm for B.Y.O Quizzo with Johnny Goodtimes. Bring you
 r favorite beer or wine and show off your trivia skills! Winning team 
 will receive a grand prize of $100. Event is free and open to the publ
 ic.\n\nFor more information visit http://phillytodo.com/events/b-y-o-q
 uizzo-with-johnny-goodtimes-1
DTSTART:20160112T223000Z
DTEND:20160113T003000Z
CATEGORIES:quizzo
LOCATION:The Market & Shops at Comcast Center
WEBSITE:
URL:
CONTACT:
ORGANIZER:
ATTACH;FMTTYPE="image/jpeg":
ATTENDEE;ROLE=REQ-PARTICIPANT;PARTSTAT=ACCEPTED;RSVP=TRUE;CN=CashmanAs
 soc:http://phillytodo.com/profile/CashmanAssoc
END:VEVENT
END:VCALENDAR
