BEGIN:VCALENDAR
PRODID:NingEventWidget-v1
VERSION:2.0
METHOD:PUBLISH
BEGIN:VEVENT
UID:4320450:Event:42402
DTSTAMP:20260425T130926Z
SUMMARY:B.Y.O. Quizzo w/ Johnny Goodtimes and Drink Philly
DESCRIPTION:Grab a team, and your favorite beer or wine and join us fo
 r Quizzo with Johnny Goodtimes and Drink Philly! Event is FREE and ope
 n to the public. Winning teams get $100 gift cards to spend in the Mar
 ket & Shops at Comcast Center! Let the games begin!  Tweet with us @Ma
 rketComcast, @JohnnyGoodtimes, @DrinkPhilly\n\nFor more information vi
 sit http://phillytodo.com/events/b-y-o-quizzo-w-johnny-goodtimes-and-d
 rink-philly
DTSTART:20151013T213000Z
DTEND:20151014T003000Z
CATEGORIES:"b.y.o.", quizzo, event
LOCATION:The Market & Shops at Comcast Center
WEBSITE:https://www.facebook.com/events/717613261705709/
URL:https://www.facebook.com/events/717613261705709/
CONTACT:215-627-1060
ORGANIZER;CN=CashmanAssoc:http://phillytodo.com/profile/CashmanAssoc
ATTACH;FMTTYPE="image/jpeg":http://storage.ning.com/topology/rest/1.0/
 file/get/3054990075?profile=original
ATTENDEE;ROLE=REQ-PARTICIPANT;PARTSTAT=ACCEPTED;RSVP=TRUE;CN=CashmanAs
 soc:http://phillytodo.com/profile/CashmanAssoc
END:VEVENT
END:VCALENDAR
