BEGIN:VCALENDAR
PRODID:NingEventWidget-v1
VERSION:2.0
METHOD:PUBLISH
BEGIN:VEVENT
UID:4320450:Event:56414
DTSTAMP:20260425T101159Z
SUMMARY:Azuka Theatre presents warplay by JC Lee
DESCRIPTION:Azuka Theatre presents the East Coast Premiere of warplay,
  a poetic and funny re-imagining of the relationship between Achilles 
 and Patroclus which requires us to reexamine our assumptions about her
 oism and love. Marking the return to Azuka of Pookie Goes Grenading pl
 aywright and television writer JC Lee (ABC's How to Get Away with Murd
 er, HBO's Looking), the journey of Achilles & Patroclus is a meditatio
 n on male intimacy, destiny, and how the constant shadow of war may wa
 rp us all. The play will run at the Louis Bluver Theatre at The Drake 
 (302 S Hicks Street) from October 31 to November 18, 2018. Tickets are
  “Pay What You Decide” where the audience members choose to pay wh
 at they decide the show was worth after the show is over. Reservations
  are available now at http://www.azukatheatre.org/warplay or by callin
 g (215) 563-1100. Please visit the website for the show schedule, as t
 imes vary by date.\n\nFor more information visit http://phillytodo.com
 /events/azuka-theatre-presents-warplay-by-jc-lee
DTSTART:20181101T000000Z
DTEND:20181119T010000Z
CATEGORIES:live, theater
LOCATION:Louis Bluver Theatre at the Drake
WEBSITE:http://www.azukatheatre.org/warplay
URL:http://www.azukatheatre.org/warplay
CONTACT:(215) 563-1100
ORGANIZER:Azuka Theatre Company
ATTACH;FMTTYPE="image/jpeg":http://storage.ning.com/topology/rest/1.0/
 file/get/3055018304?profile=original
ATTENDEE;ROLE=REQ-PARTICIPANT;PARTSTAT=ACCEPTED;RSVP=TRUE;CN="Aversa P
 R & Events":http://phillytodo.com/profile/KoryAversa277
END:VEVENT
END:VCALENDAR
