BEGIN:VCALENDAR
PRODID:NingEventWidget-v1
VERSION:2.0
METHOD:PUBLISH
BEGIN:VEVENT
UID:4320450:Event:57315
DTSTAMP:20260425T125350Z
SUMMARY:Azuka Theatre Presents Boycott Esther
DESCRIPTION:Azuka Theatre presents the world premiere of Boycott Esthe
 r by Philadelphia playwright Emily Acker. In an urgent response to the
  #metoo movement, Boycott Esther chronicles the aftermath of a young w
 oman’s career once her boss, a Hollywood mogul, becomes enmeshed in 
 a workplace sexual misconduct scandal. In a world where information is
  spread and opinions are formed in the click of a mouse, this hilariou
 s drama begs the pressing question, what is our collective capacity fo
 r forgiveness? Directed by Azuka’s Artistic Associate Maura Krause.\
 nBoycott Esther runs from May 1 to May 19, 2019, at the Proscenium The
 atre at The Drake (302 S Hicks Street). Tickets are “Pay What You De
 cide” where the audience members pay what they decide after they see
  the art. Reservations are available now at www.azukatheatre.org or by
  calling (215) 563-1100. Please visit the website for the show schedul
 e, as times vary by date.\n\nFor more information visit http://phillyt
 odo.com/events/azuka-theatre-presents-boycott-esther
DTSTART:20190501T040000Z
DTEND:20190520T035900Z
CATEGORIES:theatre
LOCATION:Proscenium Theatre at The Drake
WEBSITE:http://www.azukatheatre.org/boycott-esther
URL:http://www.azukatheatre.org/boycott-esther
CONTACT:2155631100
ORGANIZER;CN="Aversa PR & Events":http://phillytodo.com/profile/KoryAv
 ersa277
ATTACH;FMTTYPE="image/jpeg":https://storage.ning.com/topology/rest/1.0
 /file/get/1407410599?profile=original
ATTENDEE;ROLE=REQ-PARTICIPANT;PARTSTAT=ACCEPTED;RSVP=TRUE;CN="Aversa P
 R & Events":http://phillytodo.com/profile/KoryAversa277
END:VEVENT
END:VCALENDAR
