BEGIN:VCALENDAR
PRODID:NingEventWidget-v1
VERSION:2.0
METHOD:PUBLISH
BEGIN:VEVENT
UID:4320450:Event:1561
DTSTAMP:20260425T175217Z
SUMMARY:Ayurveda & Yoga :: W/ Terryann Haggins 5//22
DESCRIPTION:Enjoy a refreshing approach to vinyasa while learning abou
 t Ayurveda, the \"sister study\" to yoga, and how you can apply its wi
 sdom to your daily life, beginning today! After mapping out your \"dos
 ha\" discover what you're doing in your practice to prevent you from l
 iving in harmonious balance. Each participant will learn what he can b
 egin doing immediately to feel better each day!\n\nPrice $40\n\nFor mo
 re information visit http://phillytodo.com/events/ayurveda-yoga-w-terr
 yann
DTSTART:20100522T140000Z
DTEND:20100522T170000Z
CATEGORIES:vinyasa, workshop
LOCATION:Dhyana Yoga West Philly - 3945 Chestnut Street
WEBSITE:
URL:
CONTACT:
ORGANIZER;CN="Dhyana Yoga":http://phillytodo.com/profile/DhyanaYoga
ATTACH;FMTTYPE="image/jpeg":http://storage.ning.com/topology/rest/1.0/
 file/get/3054949977?profile=original
ATTENDEE;ROLE=REQ-PARTICIPANT;PARTSTAT=ACCEPTED;RSVP=TRUE;CN="Dhyana Y
 oga":http://phillytodo.com/profile/DhyanaYoga
END:VEVENT
END:VCALENDAR
