BEGIN:VCALENDAR
PRODID:NingEventWidget-v1
VERSION:2.0
METHOD:PUBLISH
BEGIN:VEVENT
UID:4320450:Event:36788
DTSTAMP:20260425T162021Z
SUMMARY:Awakening the Heart: Introduction to Meditation
DESCRIPTION:In this introductory course we will learn meditation and t
 he Buddhist approach to relaxing.  Applying these methods in your eve
 ryday life will lead to happiness and a sense of purpose and harmony i
 n your relationships. This is a beginner course open to everyone. Cush
 ions and chairs are available at the center.\nNo meditation experience
  necessary. Everyone is welcome.\n$20 per person.\nRegistration: 12:30
 -1:00pm\nTeaching & Meditation: 1:00-2:30pm\nBreak: 2:30-2:45pm\nTeach
 ing & Meditation: 2:45-4:00pm\nThis course will be taught by Meditatio
 n Teacher Julie Francisco.\n\nFor more information visit http://philly
 todo.com/events/awakening-the-heart-introduction-to-meditation
DTSTART:20140726T170000Z
DTEND:20140726T200000Z
CATEGORIES:meditation, class, buddhism, wellness, spiritual, buddhist,
  free
LOCATION:Amitayus Kadampa Buddhist Center
WEBSITE:http://www.meditationinphiladelphia.org/awakening-the-heart-in
 troduction-to-meditation/
URL:http://www.meditationinphiladelphia.org/awakening-the-heart-introd
 uction-to-meditation/
CONTACT:267-702-3817
ORGANIZER;CN="Education Program Coordinator":http://phillytodo.com/pro
 file/EducationProgramCoordinator
ATTACH;FMTTYPE="image/jpeg":http://storage.ning.com/topology/rest/1.0/
 file/get/3054979583?profile=original
ATTENDEE;ROLE=REQ-PARTICIPANT;PARTSTAT=ACCEPTED;RSVP=TRUE;CN="Educatio
 n Program Coordinator":http://phillytodo.com/profile/EducationProgramC
 oordinator
END:VEVENT
END:VCALENDAR
