BEGIN:VCALENDAR
PRODID:NingEventWidget-v1
VERSION:2.0
METHOD:PUBLISH
BEGIN:VEVENT
UID:4320450:Event:29597
DTSTAMP:20260425T130620Z
SUMMARY:AUTISM AWARENESS NIGHT AT THE PLEASE TOUCH MUSEUM
DESCRIPTION:Welcome Autism Awareness Month with the children and famil
 ies from Variety Club for an exclusive night at the Please Touch Museu
 m. The innovative and kid-friendly exhibit enhances learning through h
 ands-on sensory activities. Pre-register $20 per a family http://bit.l
 y/VvHbEG for an exploration of the wonderful exhibit.\n\nFor more info
 rmation visit http://phillytodo.com/events/autism-awareness-night-at-t
 he-please-touch-museum
DTSTART:20130406T220000Z
DTEND:20130407T010000Z
CATEGORIES:special, event
LOCATION:Please Touch Museum
WEBSITE:http://bit.ly/VvHbEG
URL:http://bit.ly/VvHbEG
CONTACT:(215) 625-7988
ORGANIZER;CN="Skai Blue Media":http://phillytodo.com/profile/SkaiBlueM
 edia
ATTACH;FMTTYPE="image/jpeg":
ATTENDEE;ROLE=REQ-PARTICIPANT;PARTSTAT=ACCEPTED;RSVP=TRUE;CN="Skai Blu
 e Media":http://phillytodo.com/profile/SkaiBlueMedia
END:VEVENT
END:VCALENDAR
