BEGIN:VCALENDAR
PRODID:NingEventWidget-v1
VERSION:2.0
METHOD:PUBLISH
BEGIN:VEVENT
UID:4320450:Event:33615
DTSTAMP:20260425T130558Z
SUMMARY:Aussie Invasion at McCrossen's Tavern!
DESCRIPTION:McCrossen's Tavern will be hosting a wine tasting event fe
 aturing exclusively Australian wineries. This Smackdown event is $25/p
 erson and features samplings from a variety of wine makers presented b
 y different representatives. Choose your favorite: Some Young Punks, P
 yren, Dandelion, Ochota Barrels.\n\nFor more information visit http://
 phillytodo.com/events/aussie-invasion-at-mccrossen-s-tavern
DTSTART:20130816T223000Z
DTEND:20130817T010000Z
CATEGORIES:wine, tasting
LOCATION:McCrossen's Tavern
WEBSITE:
URL:
CONTACT:(215) 854-0923
ORGANIZER;CN="Punch Media":http://phillytodo.com/profile/PunchMedia
ATTACH;FMTTYPE="image/jpeg":http://storage.ning.com/topology/rest/1.0/
 file/get/3054967174?profile=original
ATTENDEE;ROLE=REQ-PARTICIPANT;PARTSTAT=ACCEPTED;RSVP=TRUE;CN="Punch Me
 dia":http://phillytodo.com/profile/PunchMedia
END:VEVENT
END:VCALENDAR
