BEGIN:VCALENDAR
PRODID:NingEventWidget-v1
VERSION:2.0
METHOD:PUBLISH
BEGIN:VEVENT
UID:4320450:Event:55940
DTSTAMP:20260425T124845Z
SUMMARY:Audi FEASTIVAL
DESCRIPTION:The 9th annual Audi FEASTIVAL, hosted by Nick Elmi, Mike S
 olomonov, Stephen Starr, and Audrey Claire Taichman, will be held on 
 Thursday, September 27th at 140 N. Columbus Blvd., Philadelphia, PA 1
 9106.\nIndulge in an evening of art, entertainment, and food from Phil
 ly's top chefs. This year, Audi FEASTIVAL is changing it up and challe
 nging 64 chefs from different kitchens to work in pairs and create on
 e-night-only dishes inspired by different areas of the city. \nFor mo
 re information and to view the full list of chef pairings, click her
 e: https://phillyfeastival.com/2018-restaurants/\nMake sure to come h
 ungry!\n\nFor more information visit http://phillytodo.com/events/audi
 -feastival
DTSTART:20180927T230000Z
DTEND:20180928T020000Z
CATEGORIES:festival
LOCATION:FringeArts
WEBSITE:http://phillyfeastival.com
URL:http://phillyfeastival.com
CONTACT:610.585.7038
ORGANIZER;CN=CashmanAssoc:http://phillytodo.com/profile/CashmanAssoc
ATTACH;FMTTYPE="image/jpeg":http://storage.ning.com/topology/rest/1.0/
 file/get/3055015811?profile=original
ATTENDEE;ROLE=REQ-PARTICIPANT;PARTSTAT=ACCEPTED;RSVP=TRUE;CN=CashmanAs
 soc:http://phillytodo.com/profile/CashmanAssoc
END:VEVENT
END:VCALENDAR
