BEGIN:VCALENDAR
PRODID:NingEventWidget-v1
VERSION:2.0
METHOD:PUBLISH
BEGIN:VEVENT
UID:4320450:Event:42942
DTSTAMP:20260425T233105Z
SUMMARY:AT THE CENTER: MASTERS OF AMERICAN CRAFT
DESCRIPTION:Explore innovative examples of contemporary craft by fiber
  artist Ted Hallman and ceramist Robert Winokur. Drawn from the Philad
 elphia Museum of Art permanent collection and accompanied by a selecti
 on of loans, this installation showcases the artists’ ingenuity, vir
 tuosity and impact on the field. This special installation is part of 
 the Craft NOW exhibition series – celebrating the art of craft.\nTue
 sday – Sunday, 10:00am – 5:00pm. Wednesday/ Friday Evenings, Open 
 till 8:45pm\n\nFor more information visit http://phillytodo.com/events
 /at-the-center-masters-of-american-craft
DTSTART:20151103T150000Z
DTEND:20160731T210000Z
CATEGORIES:art, event
LOCATION:Philadelphia Art Museum
WEBSITE:http://www.craftnowphila.org
URL:http://www.craftnowphila.org
CONTACT:215-717-7883
ORGANIZER:Maria Moller
ATTACH;FMTTYPE="image/jpeg":
ATTENDEE;ROLE=REQ-PARTICIPANT;PARTSTAT=ACCEPTED;RSVP=TRUE;CN="Bryan Ch
 an":http://phillytodo.com/profile/BryanChan
END:VEVENT
END:VCALENDAR
