BEGIN:VCALENDAR
PRODID:NingEventWidget-v1
VERSION:2.0
METHOD:PUBLISH
BEGIN:VEVENT
UID:4320450:Event:60047
DTSTAMP:20260425T125014Z
SUMMARY:Associate Artists Exhibitions
DESCRIPTION:The Clay Studio's Associate Artist Program is a communal s
 tudio shared by thirty-three individuals on a non-juried basis. By mak
 ing low-cost studio space available to individuals, the program serves
  an important need within the community. The program supports the arti
 stic, technical, and skill development of these individuals, providing
  a unique learning environment in an urban setting.\nThe communal natu
 re of the program provides an environment that accommodates artists at
  many levels of commitment and accomplishment, in which all benefit fr
 om a diversity of experience and expertise. Many Associates are seriou
 s Clay Studio students who have committed themselves to expanding thei
 r skills and developing their own artistic voices, while others are pr
 ofessional artists who hold bachelor and master degrees in fine arts a
 nd are in need of affordable studio space. The program reflects a vast
  aesthetic range of artists—potters working side by side with abstra
 ct and representational sculptors.\n\nFor more information visit http:
 //phillytodo.com/events/associate-artists-exhibitions
DTSTART:20200111T160000Z
DTEND:20200301T230000Z
CATEGORIES:gallery, exhibition
LOCATION:The Clay Studio
WEBSITE:https://www.theclaystudio.org/exhibitions/associate-artists-ex
 hibition
URL:https://www.theclaystudio.org/exhibitions/associate-artists-exhibi
 tion
CONTACT:
ORGANIZER;CN="Bryan Chan":http://phillytodo.com/profile/BryanChan
ATTACH;FMTTYPE="image/jpeg":https://storage.ning.com/topology/rest/1.0
 /file/get/3795556595?profile=original
ATTENDEE;ROLE=REQ-PARTICIPANT;PARTSTAT=ACCEPTED;RSVP=TRUE;CN="Bryan Ch
 an":http://phillytodo.com/profile/BryanChan
END:VEVENT
END:VCALENDAR
