BEGIN:VCALENDAR
PRODID:NingEventWidget-v1
VERSION:2.0
METHOD:PUBLISH
BEGIN:VEVENT
UID:4320450:Event:13806
DTSTAMP:20260425T180719Z
SUMMARY:ArtWell 10th Anniversary Celebration
DESCRIPTION:Free art projects for children celebrating ArtWell’s 10t
 h Anniversary. Kids can dive in and participate in animal-themed art p
 rojects led by ArtWell’s teaching artists such as making masks and w
 riting poetry.  Youth are provided with the opportunity to reflect up
 on and be inspired by the animals at the Zoo while drumming musicians 
 create a festive ambiance.  Celebrate ArtWell’s 10th Anniversary, f
 ormerly the Arts and Spirituality Center, by taking a glimpse at its u
 nique programming.  Families are invited to stop by the location mark
 ed as #11 “Face Painting” on the Philadelphia Zoo map for a fun, f
 ree-flowing event on Sunday, July 10th from 11am-3pm.  ArtWell is a l
 ocal nonprofit organization that engages young people in reflection an
 d creative expression to discover and honor their strengths and those 
 of others. The ArtWell activities are free with regular Zoo admission.
 \n \nFor more information visit artwell.org or call 215-386-7705.\n\n
 For more information visit http://phillytodo.com/events/artwell-10th-a
 nniversary
DTSTART:20110710T150000Z
DTEND:20110710T190000Z
CATEGORIES:outdoor, crafts, arts
LOCATION:The Philadelphia Zoo
WEBSITE:http://www.artwell.org
URL:http://www.artwell.org
CONTACT:215-386-7705
ORGANIZER;CN="Cari Feiler Bender":http://phillytodo.com/profile/CariFe
 ilerBender
ATTACH;FMTTYPE="image/jpeg":
ATTENDEE;ROLE=REQ-PARTICIPANT;PARTSTAT=ACCEPTED;RSVP=TRUE;CN="Cari Fei
 ler Bender":http://phillytodo.com/profile/CariFeilerBender
END:VEVENT
END:VCALENDAR
