BEGIN:VCALENDAR
PRODID:NingEventWidget-v1
VERSION:2.0
METHOD:PUBLISH
BEGIN:VEVENT
UID:4320450:Event:48117
DTSTAMP:20260425T160205Z
SUMMARY:Artists in Residence
DESCRIPTION:Join The Logan, Philadelphia’s Hotel as they launch the 
 first installment of their new quarterly Artists in Residence program,
  a rotating gallery of both locally curated university artists and est
 ablished working artists alike. From November 2016 to January 2017, th
 e Moore College of Art and Design will be the first educational instit
 ution to be featured in The Logan’s Artists. The gallery will open 
 to the public on Thursday, November 17th and is free to all attendees
 . The eclectic work of the school’s alumnae and students will be fe
 atured in the hotel’s lobby and lower level.\n \nThe Artists in Res
 idence gallery rotates on a quarterly basis and is meant to celebrate 
 the work of local artists and complement The Logan’s own locally cur
 ated art collection.\n \nFor more information, see here. \n\nFor mo
 re information visit http://phillytodo.com/events/artists-in-residence
DTSTART:20161117T220000Z
DTEND:20170107T000000Z
CATEGORIES:art, show
LOCATION:The Logan Hotel
WEBSITE:http://www.theloganhotel.com/livingthelogan/artist/
URL:http://www.theloganhotel.com/livingthelogan/artist/
CONTACT:
ORGANIZER;CN=CashmanAssoc:http://phillytodo.com/profile/CashmanAssoc
ATTACH;FMTTYPE="image/jpeg":http://storage.ning.com/topology/rest/1.0/
 file/get/3055001400?profile=original
ATTENDEE;ROLE=REQ-PARTICIPANT;PARTSTAT=ACCEPTED;RSVP=TRUE;CN=CashmanAs
 soc:http://phillytodo.com/profile/CashmanAssoc
END:VEVENT
END:VCALENDAR
