BEGIN:VCALENDAR
PRODID:NingEventWidget-v1
VERSION:2.0
METHOD:PUBLISH
BEGIN:VEVENT
UID:4320450:Event:170308
DTSTAMP:20260425T125032Z
SUMMARY:Artist Talk with Michael Ferris
DESCRIPTION:Join the Center for Art in Wood for a virtual discussion w
 ith Bronx-based sculpture artist Michael Ferris. During his presentati
 on, Ferris will share insights about portraiture, the cultural and art
 -historical influences behind his unique visual language, and the humb
 le materials that give form to his body of work. Don’t miss your cha
 nce to meet the artist behind this singular figurative sculpture and h
 is timeless, larger-than-life portrayal of everyday people. Extra-Hum
 an: The Art of Michael Ferris is on view at the Center for Art in Woo
 d through April 24, 2022. \n\nFor more information visit http://phill
 ytodo.com/events/artist-talk-with-michael-ferris
DTSTART:20220127T233000Z
DTEND:20220128T003000Z
CATEGORIES:virtual, discussion
LOCATION:Zoom (RSVP for link)
WEBSITE:https://centerforartinwood.org/event/artist-talk-with-michael-
 ferris/
URL:https://centerforartinwood.org/event/artist-talk-with-michael-ferr
 is/
CONTACT:215-923-8000
ORGANIZER:The Center for Art in Wood
ATTACH;FMTTYPE="image/jpeg":https://storage.ning.com/topology/rest/1.0
 /file/get/10006251870?profile=original
ATTENDEE;ROLE=REQ-PARTICIPANT;PARTSTAT=ACCEPTED;RSVP=TRUE;CN="Bryan Ch
 an":http://phillytodo.com/profile/BryanChan
END:VEVENT
END:VCALENDAR
