BEGIN:VCALENDAR
PRODID:NingEventWidget-v1
VERSION:2.0
METHOD:PUBLISH
BEGIN:VEVENT
UID:4320450:Event:37176
DTSTAMP:20260425T125450Z
SUMMARY:Artist Reception with Jody McGrath and Colin Broderick
DESCRIPTION:Please join us for a private reception.\nView a solo exhib
 ition, Elephant, by Jody McGrath while listening to Colin Broderick re
 ad an excerpt from his newest memoir, That's That.  \nKindly RSVP to 
 pam@bluestone-gallery.com\n\nFor more information visit http://phillyt
 odo.com/events/artist-reception-with-jody-mcgrath-and-colin-broderick
DTSTART:20140718T230000Z
DTEND:20140719T000000Z
CATEGORIES:artist, reception
LOCATION:Old City
WEBSITE:http://www.bluestone-gallery.com
URL:http://www.bluestone-gallery.com
CONTACT:856.979.7588
ORGANIZER;CN="Bluestone Fine Art Gallery":http://phillytodo.com/profil
 e/BluestoneFineArtGallery
ATTACH;FMTTYPE="image/jpeg":http://storage.ning.com/topology/rest/1.0/
 file/get/3054977699?profile=original
ATTENDEE;ROLE=REQ-PARTICIPANT;PARTSTAT=ACCEPTED;RSVP=TRUE;CN="Blueston
 e Fine Art Gallery":http://phillytodo.com/profile/BluestoneFineArtGall
 ery
END:VEVENT
END:VCALENDAR
