BEGIN:VCALENDAR
PRODID:NingEventWidget-v1
VERSION:2.0
METHOD:PUBLISH
BEGIN:VEVENT
UID:4320450:Event:36687
DTSTAMP:20260425T144254Z
SUMMARY:Art Star Craft Bazaar
DESCRIPTION:The Spring Art Star Craft Bazaar is an outdoor retail art/
 craft show that is organized & juried by Philadelphia’s Art Star Gal
 lery & Boutique. Over 100 local & national artists have been selected 
 to set up shop & sell their wares at the Great Plaza at Penn’s Landi
 ng. Shoppers can expect high quality handmade goods that reflect the u
 nique & often quirky aesthetic found at Art Star’s popular retail sh
 op. Art Star has carefully curated a diverse collection of artists tha
 t create anything & everything, including housewares, paper goods, dol
 ls, prints, ceramics, clothing, accessories, paintings/drawings, sculp
 ture, and many other one-of-a-kind curiosities. All items have been ha
 ndmade from a variety of mediums that include fabric, clay, glass, woo
 d, paper & much more. The event will also include interactive craft de
 monstrations / make & takes for the entire family by local artists & a
 rt organizations including paper crafts, screen printing, relief sculp
 ture, heat transfers and more! Live music by local Philly bands presen
 ted by Philebrity – all day, each day.\n\nFor more information visit
  http://phillytodo.com/events/art-star-craft-bazaar
DTSTART:20140510T150000Z
DTEND:20140511T220000Z
CATEGORIES:craft, show
LOCATION:Great Plaza at Penn's Landing
WEBSITE:http://www.delawareriverwaterfront.com/places/great-plaza-at-p
 enn-s-landing/events/art-star-craft-bazaar
URL:http://www.delawareriverwaterfront.com/places/great-plaza-at-penn-
 s-landing/events/art-star-craft-bazaar
CONTACT:215-922-2386
ORGANIZER;CN="Delaware River Waterfront Corp.":http://phillytodo.com/p
 rofile/DelawareRiverWaterfrontCorp
ATTACH;FMTTYPE="image/jpeg":http://storage.ning.com/topology/rest/1.0/
 file/get/3054973747?profile=original
ATTENDEE;ROLE=REQ-PARTICIPANT;PARTSTAT=ACCEPTED;RSVP=TRUE;CN="Delaware
  River Waterfront Corp.":http://phillytodo.com/profile/DelawareRiverWa
 terfrontCorp
END:VEVENT
END:VCALENDAR
