BEGIN:VCALENDAR
PRODID:NingEventWidget-v1
VERSION:2.0
METHOD:PUBLISH
BEGIN:VEVENT
UID:4320450:Event:25417
DTSTAMP:20260425T142916Z
SUMMARY:Art Songs for the 21st Century
DESCRIPTION:In this one-night-only event, 15 composers from around the
  country will present a pair of art songs and compete for a chance to 
 work with CCOT on a brand new opera work.  This night gives the audie
 nce a chance to vote on their favorite composer, and help CCOT select 
 one of the winners!  At least two will be offered a chance to write a
  fully-staged opera to premiere with Center City Opera Theater.  Seat
 ing is limited - order online at OperaTheater.org\n\nFor more informat
 ion visit http://phillytodo.com/events/art-songs-for-the-21st-century
DTSTART:20120311T010000Z
DTEND:20120311T030000Z
CATEGORIES:composer, competition, "/", vocal, performance
LOCATION:Ethical Society
WEBSITE:http://operatheater.org
URL:http://operatheater.org
CONTACT:215-238-1555
ORGANIZER;CN=Eric:http://phillytodo.com/profile/Eric
ATTACH;FMTTYPE="image/jpeg":http://storage.ning.com/topology/rest/1.0/
 file/get/3054958153?profile=original
ATTENDEE;ROLE=REQ-PARTICIPANT;PARTSTAT=ACCEPTED;RSVP=TRUE;CN=Eric:http
 ://phillytodo.com/profile/Eric
END:VEVENT
END:VCALENDAR
