BEGIN:VCALENDAR
PRODID:NingEventWidget-v1
VERSION:2.0
METHOD:PUBLISH
BEGIN:VEVENT
UID:4320450:Event:43130
DTSTAMP:20260425T131223Z
SUMMARY:ART IN WOOD: PHILADELPHIAâ€™S AMERICAN CRAFT COUNCIL FELLOWS
DESCRIPTION:ExhibitingÂ American Craft Council (ACC)Â Fellow Awardees:
 \nSharon Church (jeweler), David Ellsworth (wood turner), Michael Hurw
 itz (furniture maker); Bruce Metcalf (jeweler) and the late George Nak
 ashima (furniture maker).\nÂ \nEach of the fellows work in wood and ha
 ve distinctive careers that span more than 25 years of craft.Â The Phi
 ladelphia region is widely recognized for its rich history within the 
 field of craft, now reflected in the numberÂ of local artists who have
  been elected to the ACC College of Fellows. In addition to the Center
 , The Clay Studio,Â The Philadelphia Art Alliance and The Philadelphia
  Museum of Art will also host exhibits of ACC FellowsÂ as part ofÂ Cra
 ft NOW Philadelphia â€“ a celebration of the art of craft!\nTuesday â€
 “ Saturday, 10 am â€“ 5 pm\n\nFor more information visit http://philly
 todo.com/events/art-in-wood-philadelphia-s-american-craft-council-fell
 ows
DTSTART:20151103T150000Z
DTEND:20160116T220000Z
CATEGORIES:art, event
LOCATION:The Center For Art in Wood
WEBSITE:http://www.craftnowphila.org
URL:http://www.craftnowphila.org
CONTACT:215-717-7883
ORGANIZER:Maria Moller
ATTACH;FMTTYPE="image/jpeg":
ATTENDEE;ROLE=REQ-PARTICIPANT;PARTSTAT=ACCEPTED;RSVP=TRUE;CN="Bryan Ch
 an":http://phillytodo.com/profile/BryanChan
END:VEVENT
END:VCALENDAR
