BEGIN:VCALENDAR
PRODID:NingEventWidget-v1
VERSION:2.0
METHOD:PUBLISH
BEGIN:VEVENT
UID:4320450:Event:60412
DTSTAMP:20260425T130855Z
SUMMARY:Art in the Sky: Mad Hatter's Tea Party
DESCRIPTION:One Liberty Observation Deck and JERKS Productions are par
 tnering for a sky-high showcase as they bring Alice in Wonderland to l
 ife! Come shop and browse Wonderland-inspired goods by local Philadelp
 hia artists and vendors.\nSaxbys will provide coffee, tea, and treats 
 for attendees. For those of age, spirits will be available via cash ba
 r, presented by Evil Genius Beer Company. In addition, guests will be 
 able to snack on unique treats by Jawnie’s!\nA Novel Idea on Passyun
 k will read excerpts from Alice in Wonderland, and local writers will 
 share their creative spin on the series.\nAdvance sale tickets are $10
  per person and are limited. Tickets may be purchased at the door for 
 $15 per person.\n\nFor more information visit http://phillytodo.com/ev
 ents/art-in-the-sky-mad-hatter-s-tea-party
DTSTART:20200404T170000Z
DTEND:20200404T210000Z
CATEGORIES:art, show
LOCATION:One Liberty Observation Deck
WEBSITE:https://www.eventbrite.com/e/art-in-the-sky-mad-hatters-tea-pa
 rty-tickets-92949114303
URL:https://www.eventbrite.com/e/art-in-the-sky-mad-hatters-tea-party-
 tickets-92949114303
CONTACT:
ORGANIZER;CN="Bryan Chan":http://phillytodo.com/profile/BryanChan
ATTACH;FMTTYPE="image/jpeg":https://storage.ning.com/topology/rest/1.0
 /file/get/3859474806?profile=original
ATTENDEE;ROLE=REQ-PARTICIPANT;PARTSTAT=ACCEPTED;RSVP=TRUE;CN="Bryan Ch
 an":http://phillytodo.com/profile/BryanChan
END:VEVENT
END:VCALENDAR
