BEGIN:VCALENDAR
PRODID:NingEventWidget-v1
VERSION:2.0
METHOD:PUBLISH
BEGIN:VEVENT
UID:4320450:Event:1164
DTSTAMP:20260425T172110Z
SUMMARY:Art in the Open Philadelphia
DESCRIPTION:In a first for the city Art in the Open Philadelphia celeb
 rates artists, their inspirations for creating art and their relations
 hips with the urban environment during a citywide festival taking plac
 e June 9 through 12, 2010. Artists will be invited to create works —
  in any medium or style — live, in full public view, outside along t
 he banks of the Schuylkill River in downtown Philly. Local galleries a
 nd art institutions will help create a festival-like atmosphere with a
 rt displays, educational opportunities and a chance for festival-goers
  to interact with local artists.\n\nFor more information visit http://
 phillytodo.com/events/art-in-the-open-philadelphia
DTSTART:20100609T040000Z
DTEND:20100613T035900Z
CATEGORIES:outdoor, art, festival
LOCATION:Schuylkill River Banks
WEBSITE:http://www.ArtintheOpenPhila.org
URL:http://www.ArtintheOpenPhila.org
CONTACT:
ORGANIZER:Alix Friedman
ATTACH;FMTTYPE="image/jpeg":http://storage.ning.com/topology/rest/1.0/
 file/get/3054946446?profile=original
ATTENDEE;ROLE=REQ-PARTICIPANT;PARTSTAT=ACCEPTED;RSVP=TRUE;CN="Alix Fri
 edman":http://phillytodo.com/profile/SarahSmith
END:VEVENT
END:VCALENDAR
