BEGIN:VCALENDAR
PRODID:NingEventWidget-v1
VERSION:2.0
METHOD:PUBLISH
BEGIN:VEVENT
UID:4320450:Event:49545
DTSTAMP:20260425T142657Z
SUMMARY:Art in the Open, Exhibition Opening
DESCRIPTION:Fifteen artists extend our art gallery onto the trails thi
 s summer, with works that respond to their installation site, explorin
 g concepts of placemaking, reused materials, and natural-unnatural sou
 nd. These works, both indoors and on the trails, were created as part 
 of Art in the Open, a public art program in which selected artists cr
 eate their work on the Schuylkill Banks for three days in May. Enjoy a
 rtist talks, light refreshments in the gallery, a guided walk to the o
 utdoor installations, and site-specific performance at the reception.\
 n\nFor more information visit http://phillytodo.com/events/art-in-the-
 open-exhibition-opening
DTSTART:20170524T220000Z
DTEND:20170525T000000Z
CATEGORIES:art, exhibit
LOCATION:Schuylkill Center
WEBSITE:http://www.schuylkillcenter.org/blog/event/making-place-art-op
 en-exhibition-opening/
URL:http://www.schuylkillcenter.org/blog/event/making-place-art-open-e
 xhibition-opening/
CONTACT:215-482-7300
ORGANIZER;CN="The Schuylkill Center":http://phillytodo.com/profile/Ann
 aLehrMueser
ATTACH;FMTTYPE="image/jpeg":http://storage.ning.com/topology/rest/1.0/
 file/get/3055002988?profile=original
ATTENDEE;ROLE=REQ-PARTICIPANT;PARTSTAT=ACCEPTED;RSVP=TRUE;CN="The Schu
 ylkill Center":http://phillytodo.com/profile/AnnaLehrMueser
END:VEVENT
END:VCALENDAR
