BEGIN:VCALENDAR
PRODID:NingEventWidget-v1
VERSION:2.0
METHOD:PUBLISH
BEGIN:VEVENT
UID:4320450:Event:40676
DTSTAMP:20260425T130830Z
SUMMARY:Art for the Cash Poor 16 Preview Party
DESCRIPTION:On June 13 and 14, from noon - 6 pm at Crane Arts, InLiqui
 d presents Art for the Cash Poor 16 (AFTCP), an annual summer art sale
 , which is built on the premise that everyone can be a collector. AFTC
 P, now in its 16th year, remains an exposition of quality work at affo
 rdable prices, with all works priced at $199 and under.The weekend-lon
 g fair invites attendees to navigate the Crane Arts space, which will 
 be bursting with art vendors, live musical performances, culinary curi
 osities, and an outdoor beer garden.The addition of a Friday night tic
 keted preview party serves as a meet-and-greet with the artists and a 
 fundraiser for AIDS Fund, offering guests an exclusive sneak-peek at t
 he festivities to follow. On June 12, from 5:30 - 9 pm, atttendees wil
 l be the first to have the opportunity to purchase work from a selecti
 on of the participating artists, while enjoying food and light enterta
 inment, as well as stunning performances by Gunnar Montana and Disco H
 ootenanny.Spirit Tastings:WhistlePig Rye, Siembra Spirits Tequila, Tit
 o's Vodka, among others on FridayTickets for the Friday night preview 
 are $30 in advance and $40 at the door, or $120 for a group of five.Ad
 ditional information here: http://inliquid.org/happenings/inliquid-pro
 jects/aftcp/art-for-the-cash-poor-16-preview-party/\n\nFor more inform
 ation visit http://phillytodo.com/events/art-for-the-cash-poor-16-prev
 iew-party
DTSTART:20150612T213000Z
DTEND:20150613T010000Z
CATEGORIES:fundraiser, art, sale, fair, "indoor/outdoor", summer, liqu
 or, tastings, live, music
LOCATION:Crane Arts
WEBSITE:http://inliquid.org/happenings/inliquid-projects/aftcp/art-for
 -the-cash-poor-16-preview-party/
URL:http://inliquid.org/happenings/inliquid-projects/aftcp/art-for-the
 -cash-poor-16-preview-party/
CONTACT:2152353405
ORGANIZER:InLiquid
ATTACH;FMTTYPE="image/jpeg":http://storage.ning.com/topology/rest/1.0/
 file/get/3054987401?profile=original
ATTENDEE;ROLE=REQ-PARTICIPANT;PARTSTAT=ACCEPTED;RSVP=TRUE;CN="Erica Mi
 nutella":http://phillytodo.com/profile/EricaMinutella
END:VEVENT
END:VCALENDAR
