BEGIN:VCALENDAR
PRODID:NingEventWidget-v1
VERSION:2.0
METHOD:PUBLISH
BEGIN:VEVENT
UID:4320450:Event:32069
DTSTAMP:20260425T112814Z
SUMMARY:Art for the Cash Poor 14
DESCRIPTION:\nInLiquid’s Art for the Cash Poor is a fabulous annual 
 block party-style art sale that allows art lovers the chance to meet t
 he artists, see their work first-hand, and begin or add to their art c
 ollections without breaking the bank — all in a fun, family-friendly
  atmosphere.  Saturday, June 8 and Sunday, June 9, noon - 6 pm  Art fo
 r the Cash Poor traditionally brings together a group of talented fine
  artists, designers, and crafters, from the emerging, up and coming to
  the established. Works over the years have ranged the gamut from pain
 tings, prints, photography, fiber arts, glass and ceramic ware, jewelr
 y, and fashion all for under $199.  Art for the Cash Poor offers the o
 pportunity to explore some of the city’s fresh local cuisine with so
 me of Philadelphia’s new “Gastro Food Trucks\" and beers from Phil
 adelphia Brewing Company, while you enjoy a sampling from the local mu
 sic scene:  Saturday   1 pm - Ang and the Damn Band 2 pm - Black Mount
 ainside 4 pm - It's Marvin, Your Cousin Marvin Berry 5 pm - Weird Hot 
  Sunday   1 pm - Gringo Motel 2 pm - The Nite Lites 3 pm - Busses 4 pm
  - GTVs 5 pm - 56 men\n\nFor more information visit http://phillytodo.
 com/events/art-for-the-cash-poor-14
DTSTART:20130608T160000Z
DTEND:20130609T220000Z
CATEGORIES:art, fair
LOCATION:Crane Arts Building
WEBSITE:http://inliquid.org/happenings/inliquid-projects/aftcp14/
URL:http://inliquid.org/happenings/inliquid-projects/aftcp14/
CONTACT:2152353405
ORGANIZER:InLiquid
ATTACH;FMTTYPE="image/jpeg":
ATTENDEE;ROLE=REQ-PARTICIPANT;PARTSTAT=ACCEPTED;RSVP=TRUE;CN="Erica Mi
 nutella":http://phillytodo.com/profile/EricaMinutella
END:VEVENT
END:VCALENDAR
