BEGIN:VCALENDAR
PRODID:NingEventWidget-v1
VERSION:2.0
METHOD:PUBLISH
BEGIN:VEVENT
UID:4320450:Event:32071
DTSTAMP:20260425T130831Z
SUMMARY:Art for the Cash Poor 14 Preview Party
DESCRIPTION:Preview night in partnership with AIDS Fund.  Come preview
  the work of some of the participating artists on the weekend at a spe
 cial party to support InLiquid and the AIDS Fund!  A new component to 
 the Art for the Cash Poor event – The Friday Night Preview will allo
 w avid art collectors, fans of participating artists, and the public t
 o take pleasure in a sneak peak. Be among the first to purchase work p
 rior to the weekend long event from a selection of the participating a
 rtists, all while supporting InLiquid and AIDS Fund, and enjoying food
  and light entertainment.   Special Hosts: Maria Papadakis + John Wind
   Music provided by Feed the Muse Matt Wong + Wayne Hsu  Wood Carving 
 Roger Wing  TICKETS ON SALE NOW $30 for a single ticket or $50 for two
  tickets – date night special  To purchase tickets visit bit.ly/AFTC
 Ppre  To purchase tickets by phone, call 215-235-3405 or mail a check 
 to:  AFTCP14 Preview c/o InLiquid 1400 N. American Street, #314, Phila
 delphia, PA 19122   * Arrive in style to Art for the Cash Poor with Ub
 er! Uber, \"everyone’s private driver\", allows you to order speedy 
 black car service right from your personal phone via smart phone app o
 r SMS service.  We’re proud to announce we’ve partnered with Uber 
 to provide all guests who are new users their first ride FREE up to $2
 0 the night of the event with promotional code CASHPOOR13.  Create an 
 account by visiting uber.com/go/CASHPOOR13 or by downloading the mobil
 e app and signing up with promotional code CASHPOOR13.*\n\nFor more in
 formation visit http://phillytodo.com/events/art-for-the-cash-poor-14-
 preview-party
DTSTART:20130607T213000Z
DTEND:20130608T010000Z
CATEGORIES:art, fair
LOCATION:Crane Arts Building
WEBSITE:http://inliquid.org/happenings/inliquid-projects/aftcp14-frida
 y-night-preview/
URL:http://inliquid.org/happenings/inliquid-projects/aftcp14-friday-ni
 ght-preview/
CONTACT:2152353405
ORGANIZER:InLiquid
ATTACH;FMTTYPE="image/jpeg":
ATTENDEE;ROLE=REQ-PARTICIPANT;PARTSTAT=ACCEPTED;RSVP=TRUE;CN="Erica Mi
 nutella":http://phillytodo.com/profile/EricaMinutella
END:VEVENT
END:VCALENDAR
